BEGIN:VCALENDAR
VERSION:2.0
PRODID:-//eventon.com NONSGML v1.0//EN
CALSCALE:GREGORIAN
METHOD:PUBLISH
BEGIN:VEVENT
UID:69e4ce77118a1
DTSTAMP:20260419T124543Z
DTSTART:20260403T000000Z
DTEND:20260403T020000Z
LOCATION:Hirut Cafe &amp; Jazz 2050 Danforth Ave\,  Toronto\,  Ontario M4C 1J6
SUMMARY:Pete Mills Quartet
DESCRIPTION:saxophonist Pete Mills Quartet featuring Pete McCann-guitar w/J
 on Maharaj-bass &amp; Ernesto Cervini-drums $20 Cash Cover Charge\nhttps://
 jazzintoronto.ca/events/pete-mills-quartet/
URL:https://jazzintoronto.ca/events/pete-mills-quartet/
END:VEVENT
END:VCALENDAR