BEGIN:VCALENDAR
VERSION:2.0
PRODID:-//eventon.com NONSGML v1.0//EN
CALSCALE:GREGORIAN
METHOD:PUBLISH
BEGIN:VEVENT
UID:69e49c4b6b89f
DTSTAMP:20260419T091139Z
DTSTART:20260404T000000Z
DTEND:20260404T035900Z
LOCATION:CONTXT by Trane 254 Lansdowne Ave\,  Toronto\,  ON M6H 3X9
SUMMARY:Alex Harding & Lucian Ban - "DARK BLUE" Toronto Release Concert
DESCRIPTION:Detroit-born baritone saxophonist Alex Harding and Transylvan
 ian expat\,  New York City–based pianist Lucian Ban are longtime collab
 orators and leading voices in contemporary jazz. Over more than two decades
 \,  they have founded multiple projects together\,  released acclaimed reco
 rdings on American and European labels\,  and performed extensively across 
 the U.S. and Europe. DARK BLUE (Sunnyside Records) is[..]\nhttps://jazzint
 oronto.ca/events/alex-harding-lucian-ban-dark-blue-toronto-release-concert/
URL:https://jazzintoronto.ca/events/alex-harding-lucian-ban-dark-blue-toronto-release-concert/
END:VEVENT
END:VCALENDAR