BEGIN:VCALENDAR
VERSION:2.0
PRODID:-//eventon.com NONSGML v1.0//EN
CALSCALE:GREGORIAN
METHOD:PUBLISH
BEGIN:VEVENT
UID:69e4c687c2f83
DTSTAMP:20260419T121151Z
DTSTART:20260311T220000Z
DTEND:20260312T000000Z
LOCATION:Cameron House 408 Queen St W\,  Toronto\,  ON M5V 2A7
SUMMARY:Captains of Everything (Front Room)
DESCRIPTION:Captains of Everything (Front Room)\nhttps://jazzintoronto.ca/e
 vents/captains-of-everything-front-room/var/ri-1.l-L1
URL:https://jazzintoronto.ca/events/captains-of-everything-front-room/var/ri-1.l-L1
END:VEVENT
END:VCALENDAR