BEGIN:VCALENDAR
VERSION:2.0
PRODID:-//eventon.com NONSGML v1.0//EN
CALSCALE:GREGORIAN
METHOD:PUBLISH
BEGIN:VEVENT
UID:69e4c60775f86
DTSTAMP:20260419T120943Z
DTSTART:20260311T210000Z
DTEND:20260311T230000Z
LOCATION:Jazz Bistro 251 Victoria St\,  Toronto\,  ON M5B 1T8
SUMMARY:JB Piano Bar: Eric Liang
DESCRIPTION:Eric Liang – solo piano\nhttps://jazzintoronto.ca/events/jb-p
 iano-bar-emmett-hodgins/var/ri-1.l-L1
URL:https://jazzintoronto.ca/events/jb-piano-bar-emmett-hodgins/var/ri-1.l-L1
END:VEVENT
END:VCALENDAR