BEGIN:VCALENDAR
VERSION:2.0
PRODID:-//eventon.com NONSGML v1.0//EN
CALSCALE:GREGORIAN
METHOD:PUBLISH
BEGIN:VEVENT
UID:69e5937b2a541
DTSTAMP:20260420T024619Z
DTSTART:20260419T230000Z
DTEND:20260420T035900Z
LOCATION:Castro's Lounge 2116 Queen St E\,  Toronto\,  ON M4E 1E2
SUMMARY:Yukon Cigar
DESCRIPTION:Yukon Cigar was lit in 2005. The idea? To take an earthy\,  hus
 hed songwriting style and set it on fire. Now\,  after years on the Toronto
  club circuit (playing the likes of Cameron House\,  Castro’s Lounge\,  C
 ’est What\,  El Mocambo\,  Rancho Relaxo\,  and the NXNE festival)\,  mai
 nstays Craig and Peter[..]\nhttps://jazzintoronto.ca/events/yukon-cigar-2/
URL:https://jazzintoronto.ca/events/yukon-cigar-2/
END:VEVENT
END:VCALENDAR