BEGIN:VCALENDAR
VERSION:2.0
PRODID:-//eventon.com NONSGML v1.0//EN
CALSCALE:GREGORIAN
METHOD:PUBLISH
BEGIN:VEVENT
UID:69e577f3c2b61
DTSTAMP:20260420T004851Z
DTSTART:20260425T003000Z
DTEND:20260425T035900Z
LOCATION:Lula Lounge 1585 Dundas St W\,  Toronto\,  ON M6K 1T9
SUMMARY:Son D Aqui\,  Afrolatino Dance
DESCRIPTION:Son D Aqui\,  Afrolatino Dance\nhttps://jazzintoronto.ca/events
 /son-d-aqui-afrolatino-dance/
URL:https://jazzintoronto.ca/events/son-d-aqui-afrolatino-dance/
END:VEVENT
END:VCALENDAR