BEGIN:VCALENDAR
VERSION:2.0
PRODID:-//eventon.com NONSGML v1.0//EN
CALSCALE:GREGORIAN
METHOD:PUBLISH
BEGIN:VEVENT
UID:69e56204e2fea
DTSTAMP:20260419T231516Z
DTSTART:20260423T000000Z
DTEND:20260423T035900Z
LOCATION:Lula Lounge 1585 Dundas St W\,  Toronto\,  ON M6K 1T9
SUMMARY:A Tribute To Cuban Song with Adis Rodriquez
DESCRIPTION:A Tribute To Cuban Song with Adis Rodriquez\nhttps://jazzintoro
 nto.ca/events/a-tribute-to-cuban-song-with-adis-rodriquez/
URL:https://jazzintoronto.ca/events/a-tribute-to-cuban-song-with-adis-rodriquez/
END:VEVENT
END:VCALENDAR