BEGIN:VCALENDAR
VERSION:2.0
PRODID:-//eventon.com NONSGML v1.0//EN
CALSCALE:GREGORIAN
METHOD:PUBLISH
BEGIN:VEVENT
UID:69e548e42ef67
DTSTAMP:20260419T212804Z
DTSTART:20260427T230000Z
DTEND:20260428T035900Z
LOCATION:Drom Taberna 458 Queen St W\,  Toronto\,  ON M5V 2A8
SUMMARY:Beit Tamaya Fundraiser
DESCRIPTION:Given the magical energy of the last gathering\,  we decided to
  come together again. Join us on April 27 from 7–11pm for another Beit 
 Tamaya Jam3a around the table. This is an offering for community\,  a space
  for food\,  conversation\,  and connection. While we are coming together t
 o raise funds for displaced[..]\nhttps://jazzintoronto.ca/events/beit-tamay
 a-fundraiser/
URL:https://jazzintoronto.ca/events/beit-tamaya-fundraiser/
END:VEVENT
END:VCALENDAR