BEGIN:VCALENDAR
VERSION:2.0
PRODID:-//eventon.com NONSGML v1.0//EN
CALSCALE:GREGORIAN
METHOD:PUBLISH
BEGIN:VEVENT
UID:69e52e26b2d8d
DTSTAMP:20260419T193358Z
DTSTART:20260426T063000Z
DTEND:20260426T080000Z
LOCATION:Drom Taberna 458 Queen St W\,  Toronto\,  ON M5V 2A8
SUMMARY:Jam with Rash
DESCRIPTION:Rash is a group with Tim Shia (Friendly Rich\,  Donne Roberts\,
   Worst Pop Band Ever)\,  and Andrew Rasmussen (Hailey Blais\,  Hannah Geor
 gas\,  the 99s) along with a mix of other musician friends depending on the
 ir mood. They enjoy improvising almost as much as grooving\,  but not as mu
 ch as short[..]\nhttps://jazzintoronto.ca/events/jam-with-rash/
URL:https://jazzintoronto.ca/events/jam-with-rash/
END:VEVENT
END:VCALENDAR