BEGIN:VCALENDAR
VERSION:2.0
PRODID:-//eventon.com NONSGML v1.0//EN
CALSCALE:GREGORIAN
METHOD:PUBLISH
BEGIN:VEVENT
UID:69e514245063d
DTSTAMP:20260419T174300Z
DTSTART:20260425T063000Z
DTEND:20260425T080000Z
LOCATION:Drom Taberna 458 Queen St W\,  Toronto\,  ON M5V 2A8
SUMMARY:The Young Scones
DESCRIPTION:Born in the bars and basements of Toronto\,  The Young Scones h
 ave been making a loud\,  unapologetic noise since early 2022. We make musi
 c for people who feel a little feral in quiet rooms. It’s loud\,  restles
 s rock ’n’ roll\,  built on impulse\,  volume\,  and the need to get it
 [..]\nhttps://jazzintoronto.ca/events/the-young-scones-2/
URL:https://jazzintoronto.ca/events/the-young-scones-2/
END:VEVENT
END:VCALENDAR