BEGIN:VCALENDAR
VERSION:2.0
PRODID:-//eventon.com NONSGML v1.0//EN
CALSCALE:GREGORIAN
METHOD:PUBLISH
BEGIN:VEVENT
UID:69e4fe879df46
DTSTAMP:20260419T161047Z
DTSTART:20260419T033000Z
DTEND:20260419T035900Z
LOCATION:Drom Taberna 458 Queen St W\,  Toronto\,  ON M5V 2A8
SUMMARY:Joaquin Núñez & Habana Safari
DESCRIPTION:Multi-Juno Award winner\,  CFMA-nominated\,  and Grammy-nominat
 ed Cuban-Canadian percussionist and bandleader Joaquin Núñez is known for
  his dynamic performances that bridge traditional and contemporary expressi
 ons of Cuban music\,  jazz\,  and popular genres. As founder of the Cuban-C
 anadian project Habana Safari\,  Joaquin showcases the evolution of Cuban m
 usic—from its early roots to[..]\nhttps://jazzintoronto.ca/events/joaquin
 -nunez-habana-safari/
URL:https://jazzintoronto.ca/events/joaquin-nunez-habana-safari/
END:VEVENT
END:VCALENDAR