BEGIN:VCALENDAR
VERSION:2.0
PRODID:-//eventon.com NONSGML v1.0//EN
CALSCALE:GREGORIAN
METHOD:PUBLISH
BEGIN:VEVENT
UID:69e4e90c616f2
DTSTAMP:20260419T143908Z
DTSTART:20260419T003000Z
DTEND:20260419T030000Z
LOCATION:Jazz Bistro 251 Victoria St\,  Toronto\,  ON M5B 1T8
SUMMARY:Bill Smith ft. Mike Murley
DESCRIPTION:Mike Murley – saxophone David French – saxophone Dan Fortin
  – bass Fabio J. Ragnelli – drums\nhttps://jazzintoronto.ca/events/bill
 -smith-ft-mike-murley/
URL:https://jazzintoronto.ca/events/bill-smith-ft-mike-murley/
END:VEVENT
END:VCALENDAR