BEGIN:VCALENDAR
VERSION:2.0
PRODID:-//eventon.com NONSGML v1.0//EN
CALSCALE:GREGORIAN
METHOD:PUBLISH
BEGIN:VEVENT
UID:69e4fe8d4a25c
DTSTAMP:20260419T161053Z
DTSTART:20260419T003000Z
DTEND:20260419T035900Z
LOCATION:Lula Lounge 1585 Dundas St W\,  Toronto\,  ON M6K 1T9
SUMMARY:Latin Swing Orchestra with Teria Morada
DESCRIPTION:Latin Swing Orchestra with Teria Morada\nhttps://jazzintoronto.
 ca/events/latin-swing-orchestra-with-teria-morada/
URL:https://jazzintoronto.ca/events/latin-swing-orchestra-with-teria-morada/
END:VEVENT
END:VCALENDAR