BEGIN:VCALENDAR
VERSION:2.0
PRODID:-//eventon.com NONSGML v1.0//EN
CALSCALE:GREGORIAN
METHOD:PUBLISH
BEGIN:VEVENT
UID:69e5169a68734
DTSTAMP:20260419T175330Z
DTSTART:20260418T230000Z
DTEND:20260419T010000Z
LOCATION:The Painted Lady 218 Ossington Ave\,  Toronto\,  ON M6J 2Z9
SUMMARY:Dandelion Highway & Silver Reeds
DESCRIPTION:Dandelion Highway & Silver Reeds\nhttps://jazzintoronto.ca/even
 ts/dandelion-highway-silver-reeds/
URL:https://jazzintoronto.ca/events/dandelion-highway-silver-reeds/
END:VEVENT
END:VCALENDAR