BEGIN:VCALENDAR
VERSION:2.0
PRODID:-//eventon.com NONSGML v1.0//EN
CALSCALE:GREGORIAN
METHOD:PUBLISH
BEGIN:VEVENT
UID:69e52e34e3887
DTSTAMP:20260419T193412Z
DTSTART:20260418T223000Z
DTEND:20260419T035900Z
LOCATION:Paradise Theatre 1006c Bloor St W\,  Toronto\,  ON M6H 1M2
SUMMARY:Candlelight Jazz: Nina Simone\,  Ella Fitzgerald\,  and the Women of Jazz feat. Joanna Majoko
DESCRIPTION:Candlelight Jazz: Nina Simone\,  Ella Fitzgerald\,  and the Wom
 en of Jazz feat. Joanna Majoko\nhttps://jazzintoronto.ca/events/candlelight
 -jazz-nina-simone-ella-fitzgerald-and-the-women-of-jazz-feat-joanna-majoko/
URL:https://jazzintoronto.ca/events/candlelight-jazz-nina-simone-ella-fitzgerald-and-the-women-of-jazz-feat-joanna-majoko/
END:VEVENT
END:VCALENDAR