BEGIN:VCALENDAR
VERSION:2.0
PRODID:-//eventon.com NONSGML v1.0//EN
CALSCALE:GREGORIAN
METHOD:PUBLISH
BEGIN:VEVENT
UID:69e4b43a67c33
DTSTAMP:20260419T105346Z
DTSTART:20260426T030000Z
DTEND:20260425T040000Z
LOCATION:The Emmet Ray 924 College St\,  Toronto\,  ON M6H 1A4
SUMMARY:JazzInToronto Presents:  Late Night Jazz Jam
DESCRIPTION:Free for musicians PWYC for listeners 11pm doors\,  Starts at 1
 1:30pm\nhttps://jazzintoronto.ca/events/jazzintoronto-presents-late-night-j
 azz-jam-3/
URL:https://jazzintoronto.ca/events/jazzintoronto-presents-late-night-jazz-jam-3/
END:VEVENT
END:VCALENDAR