BEGIN:VCALENDAR
VERSION:2.0
PRODID:-//eventon.com NONSGML v1.0//EN
CALSCALE:GREGORIAN
METHOD:PUBLISH
BEGIN:VEVENT
UID:69e4cbfbc2a82
DTSTAMP:20260419T123507Z
DTSTART:20260421T011500Z
DTEND:20260421T033000Z
LOCATION:The Emmet Ray 924 College St\,  Toronto\,  ON M6H 1A4
SUMMARY:Keith Barstow\,  Sylvester Pederson & David Hodgson
DESCRIPTION:David Hodgson is back from New York and we all know how much of
  a talent he is and how special it is to have him perform at our venue. Wit
 h Keith and Sylvester\,  all stars in their own right. Keith Barstow – Dr
 ums Sylvester Pedersen – Bass David Hodgson[..]\nhttps://jazzintoronto.ca
 /events/keith-barstow-sylvester-pederson-david-hodgson/
URL:https://jazzintoronto.ca/events/keith-barstow-sylvester-pederson-david-hodgson/
END:VEVENT
END:VCALENDAR