BEGIN:VCALENDAR
VERSION:2.0
PRODID:-//eventon.com NONSGML v1.0//EN
CALSCALE:GREGORIAN
METHOD:PUBLISH
BEGIN:VEVENT
UID:69e4e372e7a2f
DTSTAMP:20260419T141514Z
DTSTART:20260420T000000Z
DTEND:20260420T023000Z
LOCATION:The Emmet Ray 924 College St\,  Toronto\,  ON M6H 1A4
SUMMARY:Miller/Varty/Duffy/Wood
DESCRIPTION:Miller/Varty/Duffy/Wood is a collaborative folk and jazz group 
 looking to embrace traditional and modern sounds. Aidan Miller – drums\, 
  Fiona Varty – bass\,  Julian Duffy – guitar\,  Lauchlin Wood – saxop
 hones\,  Cale Fladager – harmonica\nhttps://jazzintoronto.ca/events/fiona
 -and-friends/
URL:https://jazzintoronto.ca/events/fiona-and-friends/
END:VEVENT
END:VCALENDAR