BEGIN:VCALENDAR
VERSION:2.0
PRODID:-//eventon.com NONSGML v1.0//EN
CALSCALE:GREGORIAN
METHOD:PUBLISH
BEGIN:VEVENT
UID:69e4d1a74380b
DTSTAMP:20260419T125919Z
DTSTART:20260412T230000Z
DTEND:20260413T033000Z
LOCATION:Linsmore Tavern 1298 Danforth Ave\,  Toronto\,  ON M4J 1M6
SUMMARY:Blues Sunday - The Legendary Castaways
DESCRIPTION:The Legendary Castaways are: Joel Krass (vocals\,  guitar) – 
 Joel is a former RCA Recording Artist (Headstrong/bomb32) and full-time mus
 ic seeker. When he’s not trolling the clubs to hear great local players\,
   Joel plays a Gibson Les Paul Standard and uses Traynor and Roland amplifi
 ers. Ben Wilson (vocals\,  bass) –[..]\nhttps://jazzintoronto.ca/events/b
 lues-sunday-the-legendary-castaways/
URL:https://jazzintoronto.ca/events/blues-sunday-the-legendary-castaways/
END:VEVENT
END:VCALENDAR