BEGIN:VCALENDAR
VERSION:2.0
PRODID:-//eventon.com NONSGML v1.0//EN
CALSCALE:GREGORIAN
METHOD:PUBLISH
BEGIN:VEVENT
UID:69eb76d555e2e
DTSTAMP:20260424T135741Z
DTSTART:20260429T000000Z
DTEND:20260429T030000Z
LOCATION:Black Bear Pub 1125 O'Connor Dr\,  East York\,  East York\,  Ontario M4B 2T5
SUMMARY:Kirk MacDonald\,  Reg Schwager\,  Pat Collins & Joel Haynes
DESCRIPTION:Kirk MacDonald\,  Reg Schwager\,  Pat Collins & Joel Haynes\nht
 tps://jazzintoronto.ca/events/kirk-macdonald-reg-schwager-pat-collins-joel-
 haynes/
URL:https://jazzintoronto.ca/events/kirk-macdonald-reg-schwager-pat-collins-joel-haynes/
END:VEVENT
END:VCALENDAR