BEGIN:VCALENDAR
VERSION:2.0
PRODID:-//eventon.com NONSGML v1.0//EN
CALSCALE:GREGORIAN
METHOD:PUBLISH
BEGIN:VEVENT
UID:69e52f3753e51
DTSTAMP:20260419T193831Z
DTSTART:20260628T203000Z
DTEND:20260629T035900Z
LOCATION:Noonan's Pub 141 Danforth Ave\,  Toronto\,  ON M4K 1N2
SUMMARY:Traditional Irish Music
DESCRIPTION:Traditional Irish Music\nhttps://jazzintoronto.ca/events/tradit
 ional-irish-music-2/var/ri-11.l-L1
URL:https://jazzintoronto.ca/events/traditional-irish-music-2/var/ri-11.l-L1
END:VEVENT
END:VCALENDAR