BEGIN:VCALENDAR
VERSION:2.0
PRODID:-//eventon.com NONSGML v1.0//EN
CALSCALE:GREGORIAN
METHOD:PUBLISH
BEGIN:VEVENT
UID:69e4f5bd3acb7
DTSTAMP:20260419T153317Z
DTSTART:20260402T220000Z
DTEND:20260403T000000Z
LOCATION:Castro's Lounge 2116 Queen St E\,  Toronto\,  ON M4E 1E2
SUMMARY:Rob Quail Trio
DESCRIPTION:The ROB QUAIL TRIO is a Toronto-based blues and rock ensemble l
 ed by veteran guitarist and vocalist Rob Quail with Hap Roderman on bass / 
 keyboards and Dave Patel on drums. The group performs a mix of gritty blues
 \,  roots and rock. Rob was a lifelong friend and frequent collaborator[..]
 \nhttps://jazzintoronto.ca/events/rob-quail-trio/
URL:https://jazzintoronto.ca/events/rob-quail-trio/
END:VEVENT
END:VCALENDAR