BEGIN:VCALENDAR
VERSION:2.0
PRODID:-//eventon.com NONSGML v1.0//EN
CALSCALE:GREGORIAN
METHOD:PUBLISH
BEGIN:VEVENT
UID:69e4dc61ca128
DTSTAMP:20260419T134505Z
DTSTART:20260402T180000Z
DTEND:20260402T200000Z
LOCATION:Clockwork Champagne &amp; Cocktails Fairmont Royal York\,  100 Front St W\,  Toronto\,  ON M5J 1E3
SUMMARY:Joao Leao - Solo Piano
DESCRIPTION:Joao Leao - Solo Piano\nhttps://jazzintoronto.ca/events/joao-le
 ao-solo-piano/
URL:https://jazzintoronto.ca/events/joao-leao-solo-piano/
END:VEVENT
END:VCALENDAR