BEGIN:VCALENDAR
VERSION:2.0
PRODID:-//eventon.com NONSGML v1.0//EN
CALSCALE:GREGORIAN
METHOD:PUBLISH
BEGIN:VEVENT
UID:69e4c61cd0a6c
DTSTAMP:20260419T121004Z
DTSTART:20260418T170000Z
DTEND:20260418T203000Z
LOCATION:The Pilot 22 Cumberland St\,  Toronto\,  ON M4W 1J5
SUMMARY:Sugar Daddies - Tribute to Cannonball
DESCRIPTION:Gord Sheard - piano John Johnson - sax Matt Smith - trumpet Tom
  Bellman - guitar Steve Conover - bass Peter Howard - drums\nhttps://jazzin
 toronto.ca/events/sugar-daddies-tribute-to-cannonball/
URL:https://jazzintoronto.ca/events/sugar-daddies-tribute-to-cannonball/
END:VEVENT
END:VCALENDAR