BEGIN:VCALENDAR
VERSION:2.0
PRODID:-//eventon.com NONSGML v1.0//EN
CALSCALE:GREGORIAN
METHOD:PUBLISH
BEGIN:VEVENT
UID:69e4c65de7165
DTSTAMP:20260419T121109Z
DTSTART:20260411T170000Z
DTEND:20260411T203000Z
LOCATION:The Pilot 22 Cumberland St\,  Toronto\,  ON M4W 1J5
SUMMARY:Kevin Turcotte Quartet
DESCRIPTION:Keven Turcotte - trumpet Reg Schwager - guitar Dan Fortin - bas
 s Nick Fraser - drums\nhttps://jazzintoronto.ca/events/kevin-turcotte-quart
 et/
URL:https://jazzintoronto.ca/events/kevin-turcotte-quartet/
END:VEVENT
END:VCALENDAR