BEGIN:VCALENDAR
VERSION:2.0
PRODID:-//eventon.com NONSGML v1.0//EN
CALSCALE:GREGORIAN
METHOD:PUBLISH
BEGIN:VEVENT
UID:69e4c8892c2b8
DTSTAMP:20260419T122025Z
DTSTART:20260426T170000Z
DTEND:20260426T200000Z
LOCATION:The Pilot 22 Cumberland St\,  Toronto\,  ON M4W 1J5
SUMMARY:JazzInToronto Songbird Series: Julia D'Angelo
DESCRIPTION:Julia D'Angelo - artist (songwriter/performer/vocals) Steve D'A
 ngelo - guitar Lorenzo Castelli - drums/percussion Emmet Hodgins - keys Ste
 ve Lucas - bass Matt Woroshyl - sax Join us on Sunday\,  April 26th at The 
 Pilot for a daytime show featuring Toronto-based singer-songwriter\,  Julia
  D’Angelo. A queer\,  multidisciplinary artist weaving music\,  film\, [.
 .]\nhttps://jazzintoronto.ca/events/jazzintoronto-songbird-series-julia-dan
 gelo/
URL:https://jazzintoronto.ca/events/jazzintoronto-songbird-series-julia-dangelo/
END:VEVENT
END:VCALENDAR