BEGIN:VCALENDAR
VERSION:2.0
PRODID:-//eventon.com NONSGML v1.0//EN
CALSCALE:GREGORIAN
METHOD:PUBLISH
BEGIN:VEVENT
UID:69e4c72b16c1d
DTSTAMP:20260419T121435Z
DTSTART:20260425T170000Z
DTEND:20260425T200000Z
LOCATION:The Pilot 22 Cumberland St\,  Toronto\,  ON M4W 1J5
SUMMARY:JazzInToronto Presents: Patrick Smith Quartet honours Stan Getz and Sonny Rollins
DESCRIPTION:Patrick Smith - tenor saxophone Jen Lo - keys Julian Anderson-B
 owes - bass Angelica Zavala - drums Patrick Smith is a saxophonist based in
  Toronto (originally from Ottawa). He has established himself as a gifted a
 nd in demand saxophonist in the Canadian music scene. In recent years he ha
 s extensively[..]\nhttps://jazzintoronto.ca/events/jazzintoronto-presents-p
 atrick-smith-quartet-honours-stan-getz-and-sonny-rollins/
URL:https://jazzintoronto.ca/events/jazzintoronto-presents-patrick-smith-quartet-honours-stan-getz-and-sonny-rollins/
END:VEVENT
END:VCALENDAR