BEGIN:VCALENDAR
VERSION:2.0
PRODID:-//eventon.com NONSGML v1.0//EN
CALSCALE:GREGORIAN
METHOD:PUBLISH
BEGIN:VEVENT
UID:69e4c6bd8b569
DTSTAMP:20260419T121245Z
DTSTART:20260419T170000Z
DTEND:20260419T200000Z
LOCATION:The Pilot 22 Cumberland St\,  Toronto\,  ON M4W 1J5
SUMMARY:JazzInToronto Songbird Series: Koller - Michels
DESCRIPTION:Julie Michels - vocals George Koller - bass/vocals Julie Michel
 s and George Koller ... born in 1958\,  developed illustrious careers on th
 eir own... then met in 1994... the rest is history! They found a shared pas
 sion for classic jazz\,  instant composition\,  and positive vibrations per
 forming as a bass/ voice duo.[..]\nhttps://jazzintoronto.ca/events/jazzinto
 ronto-songbird-series-koller-michels/
URL:https://jazzintoronto.ca/events/jazzintoronto-songbird-series-koller-michels/
END:VEVENT
END:VCALENDAR