BEGIN:VCALENDAR
VERSION:2.0
PRODID:-//eventon.com NONSGML v1.0//EN
CALSCALE:GREGORIAN
METHOD:PUBLISH
BEGIN:VEVENT
UID:69e4c7c27a600
DTSTAMP:20260419T121706Z
DTSTART:20260412T180000Z
DTEND:20260412T200000Z
LOCATION:The Pilot 22 Cumberland St\,  Toronto\,  ON M4W 1J5
SUMMARY:JazzInToronto Songbird Series: Suzi & Doug
DESCRIPTION:SUZI WESSON and DOUG BALFOUR first appeared as a duo while stil
 l in their twenties\,  playing great Toronto institutions like The Groaning
  Board\,  Fitzgerald's and the Cafe on the Park. They regrouped after a 27 
 year break\,  performing at clubs\,  concerts and festivals with an eclecti
 c blend of jazz\,  blues\, [..]\nhttps://jazzintoronto.ca/events/jazzintoro
 nto-songbird-series-suzi-doug/
URL:https://jazzintoronto.ca/events/jazzintoronto-songbird-series-suzi-doug/
END:VEVENT
END:VCALENDAR