BEGIN:VCALENDAR
VERSION:2.0
PRODID:-//eventon.com NONSGML v1.0//EN
CALSCALE:GREGORIAN
METHOD:PUBLISH
BEGIN:VEVENT
UID:69e4c61cb19cf
DTSTAMP:20260419T121004Z
DTSTART:20260405T180000Z
DTEND:20260405T200000Z
LOCATION:The Pilot 22 Cumberland St\,  Toronto\,  ON M4W 1J5
SUMMARY:JazzInToronto Songbird Series: Seu
DESCRIPTION:Jorge Morán - Voice Kyle Sullivan - Drums Fernando Jara - Keys
  Paul Callander - Trumpet Clayton Harder - Bass\nhttps://jazzintoronto.ca/e
 vents/jazzintoronto-songbird-series-seu/
URL:https://jazzintoronto.ca/events/jazzintoronto-songbird-series-seu/
END:VEVENT
END:VCALENDAR