BEGIN:VCALENDAR
VERSION:2.0
PRODID:-//eventon.com NONSGML v1.0//EN
CALSCALE:GREGORIAN
METHOD:PUBLISH
BEGIN:VEVENT
UID:69e4c888c81fa
DTSTAMP:20260419T122024Z
DTSTART:20260506T233000Z
DTEND:20260507T035900Z
LOCATION:The Pilot 22 Cumberland St\,  Toronto\,  ON M4W 1J5
SUMMARY:Live Band Karaoke hosted by BJordo Arnaut
DESCRIPTION:Live Band Karaoke hosted by BJordo Arnaut\nhttps://jazzintoront
 o.ca/events/live-band-karaoke-hosted-by-bjordo-arnaut/
URL:https://jazzintoronto.ca/events/live-band-karaoke-hosted-by-bjordo-arnaut/
END:VEVENT
END:VCALENDAR