BEGIN:VCALENDAR
VERSION:2.0
PRODID:-//eventon.com NONSGML v1.0//EN
CALSCALE:GREGORIAN
METHOD:PUBLISH
BEGIN:VEVENT
UID:69e4c72aacab5
DTSTAMP:20260419T121434Z
DTSTART:20260401T233000Z
DTEND:20260402T035900Z
LOCATION:The Pilot 22 Cumberland St\,  Toronto\,  ON M4W 1J5
SUMMARY:Live Band Karaoke hosted by Bailey Jordon-Neil
DESCRIPTION:Live Band Karaoke hosted by Bailey Jordon-Neil\nhttps://jazzint
 oronto.ca/events/live-band-karaoke-hosted-by-bailey-jordon-neil/
URL:https://jazzintoronto.ca/events/live-band-karaoke-hosted-by-bailey-jordon-neil/
END:VEVENT
END:VCALENDAR