BEGIN:VCALENDAR
VERSION:2.0
PRODID:-//eventon.com NONSGML v1.0//EN
CALSCALE:GREGORIAN
METHOD:PUBLISH
BEGIN:VEVENT
UID:69e4c676ea306
DTSTAMP:20260419T121134Z
DTSTART:20260404T170000Z
DTEND:20260404T200000Z
LOCATION:The Pilot 22 Cumberland St\,  Toronto\,  ON M4W 1J5
SUMMARY:Steve Holt Jazz Impact Quintet
DESCRIPTION:2026 JUNO NOMINEE - Jazz Album of the Year! Steve Holt - piano\
 ,  Kevin Turcotte - trumpet\,  Perry White - sax\,  Duncan Hopkins - bass\,
   Terry Clarke - drums.\nhttps://jazzintoronto.ca/events/steve-holt-jazz-im
 pact-quintet/
URL:https://jazzintoronto.ca/events/steve-holt-jazz-impact-quintet/
END:VEVENT
END:VCALENDAR