BEGIN:VCALENDAR
VERSION:2.0
PRODID:-//eventon.com NONSGML v1.0//EN
CALSCALE:GREGORIAN
METHOD:PUBLISH
BEGIN:VEVENT
UID:69e4de4cca6df
DTSTAMP:20260419T135316Z
DTSTART:20260402T013000Z
DTEND:20260402T035900Z
LOCATION:The Bell &amp; Beacon 1648 1/2 Queen St W\,  Toronto\,  ON M6R 1B2
SUMMARY:Kip James Roadhouse
DESCRIPTION:Kip James Roadhouse\nhttps://jazzintoronto.ca/events/kip-james-
 roadhouse-2/
URL:https://jazzintoronto.ca/events/kip-james-roadhouse-2/
END:VEVENT
END:VCALENDAR