BEGIN:VCALENDAR
VERSION:2.0
PRODID:-//eventon.com NONSGML v1.0//EN
CALSCALE:GREGORIAN
METHOD:PUBLISH
BEGIN:VEVENT
UID:69e4f67ec89a3
DTSTAMP:20260419T153630Z
DTSTART:20260402T010000Z
DTEND:20260402T035900Z
LOCATION:Poetry Jazz Cafe 1078 Queen St W.\,  Toronto\,  Ontario M6J 1H8
SUMMARY:BONK featuring realije
DESCRIPTION:BONK featuring realije\nhttps://jazzintoronto.ca/events/bonk-fe
 aturing-realije/
URL:https://jazzintoronto.ca/events/bonk-featuring-realije/
END:VEVENT
END:VCALENDAR