BEGIN:VCALENDAR
VERSION:2.0
PRODID:-//eventon.com NONSGML v1.0//EN
CALSCALE:GREGORIAN
METHOD:PUBLISH
BEGIN:VEVENT
UID:69e5e50ae2892
DTSTAMP:20260420T083418Z
DTSTART:20260419T180000Z
DTEND:20260420T035900Z
LOCATION:The Local 396 Roncesvalles Ave\,  Toronto\,  ON M6R 2M9
SUMMARY:Brandon Agnew & The Euchre Party
DESCRIPTION:Brandon Agnew & The Euchre Party\nhttps://jazzintoronto.ca/even
 ts/brandon-agnew-the-euchre-party/
URL:https://jazzintoronto.ca/events/brandon-agnew-the-euchre-party/
END:VEVENT
END:VCALENDAR