BEGIN:VCALENDAR
VERSION:2.0
PRODID:-//eventon.com NONSGML v1.0//EN
CALSCALE:GREGORIAN
METHOD:PUBLISH
BEGIN:VEVENT
UID:69e5cd221bb96
DTSTAMP:20260420T065218Z
DTSTART:20260418T180000Z
DTEND:20260419T035900Z
LOCATION:The Local 396 Roncesvalles Ave\,  Toronto\,  ON M6R 2M9
SUMMARY:Ken Yoshioka & Julian Fauth
DESCRIPTION:Ken Yoshioka & Julian Fauth\nhttps://jazzintoronto.ca/events/ke
 n-yoshioka-julian-fauth/
URL:https://jazzintoronto.ca/events/ken-yoshioka-julian-fauth/
END:VEVENT
END:VCALENDAR