BEGIN:VCALENDAR
VERSION:2.0
PRODID:-//eventon.com NONSGML v1.0//EN
CALSCALE:GREGORIAN
METHOD:PUBLISH
BEGIN:VEVENT
UID:69e5b63c07a71
DTSTAMP:20260420T051436Z
DTSTART:20260416T010000Z
DTEND:20260416T035900Z
LOCATION:The Local 396 Roncesvalles Ave\,  Toronto\,  ON M6R 2M9
SUMMARY:James Mceleny
DESCRIPTION:James Mceleny\nhttps://jazzintoronto.ca/events/james-mceleny/
URL:https://jazzintoronto.ca/events/james-mceleny/
END:VEVENT
END:VCALENDAR