BEGIN:VCALENDAR
VERSION:2.0
PRODID:-//eventon.com NONSGML v1.0//EN
CALSCALE:GREGORIAN
METHOD:PUBLISH
BEGIN:VEVENT
UID:69e59cc085d6a
DTSTAMP:20260420T032552Z
DTSTART:20260415T010000Z
DTEND:20260415T035900Z
LOCATION:The Local 396 Roncesvalles Ave\,  Toronto\,  ON M6R 2M9
SUMMARY:Nate Mills
DESCRIPTION:Nate Mills\nhttps://jazzintoronto.ca/events/nate-mills-2/
URL:https://jazzintoronto.ca/events/nate-mills-2/
END:VEVENT
END:VCALENDAR