BEGIN:VCALENDAR
VERSION:2.0
PRODID:-//eventon.com NONSGML v1.0//EN
CALSCALE:GREGORIAN
METHOD:PUBLISH
BEGIN:VEVENT
UID:69e583165f72c
DTSTAMP:20260420T013622Z
DTSTART:20260414T010000Z
DTEND:20260414T035900Z
LOCATION:The Local 396 Roncesvalles Ave\,  Toronto\,  ON M6R 2M9
SUMMARY:Staig & Billings
DESCRIPTION:Staig & Billings\nhttps://jazzintoronto.ca/events/staig-billing
 s/
URL:https://jazzintoronto.ca/events/staig-billings/
END:VEVENT
END:VCALENDAR