BEGIN:VCALENDAR
VERSION:2.0
PRODID:-//eventon.com NONSGML v1.0//EN
CALSCALE:GREGORIAN
METHOD:PUBLISH
BEGIN:VEVENT
UID:69e56805380da
DTSTAMP:20260419T234053Z
DTSTART:20260413T010000Z
DTEND:20260413T035900Z
LOCATION:The Local 396 Roncesvalles Ave\,  Toronto\,  ON M6R 2M9
SUMMARY:Lennox Campbell
DESCRIPTION:Lennox Campbell\nhttps://jazzintoronto.ca/events/lennox-campbel
 l/
URL:https://jazzintoronto.ca/events/lennox-campbell/
END:VEVENT
END:VCALENDAR