BEGIN:VCALENDAR
VERSION:2.0
PRODID:-//eventon.com NONSGML v1.0//EN
CALSCALE:GREGORIAN
METHOD:PUBLISH
BEGIN:VEVENT
UID:69e54ec0f047c
DTSTAMP:20260419T215304Z
DTSTART:20260412T180000Z
DTEND:20260413T035900Z
LOCATION:The Local 396 Roncesvalles Ave\,  Toronto\,  ON M6R 2M9
SUMMARY:Onion Honey
DESCRIPTION:Onion Honey\nhttps://jazzintoronto.ca/events/onion-honey/
URL:https://jazzintoronto.ca/events/onion-honey/
END:VEVENT
END:VCALENDAR