BEGIN:VCALENDAR
VERSION:2.0
PRODID:-//eventon.com NONSGML v1.0//EN
CALSCALE:GREGORIAN
METHOD:PUBLISH
BEGIN:VEVENT
UID:69e53430a4888
DTSTAMP:20260419T195944Z
DTSTART:20260411T180000Z
DTEND:20260412T035900Z
LOCATION:The Local 396 Roncesvalles Ave\,  Toronto\,  ON M6R 2M9
SUMMARY:Steve Stacy
DESCRIPTION:Steve Stacy\nhttps://jazzintoronto.ca/events/steve-stacy/
URL:https://jazzintoronto.ca/events/steve-stacy/
END:VEVENT
END:VCALENDAR