BEGIN:VCALENDAR
VERSION:2.0
PRODID:-//eventon.com NONSGML v1.0//EN
CALSCALE:GREGORIAN
METHOD:PUBLISH
BEGIN:VEVENT
UID:69e519cfca56f
DTSTAMP:20260419T180711Z
DTSTART:20260409T010000Z
DTEND:20260409T035900Z
LOCATION:The Local 396 Roncesvalles Ave\,  Toronto\,  ON M6R 2M9
SUMMARY:Borkosky & Rivers with "Heavenly"  Devin Staple
DESCRIPTION:Borkosky & Rivers with "Heavenly" Devin Staple\nhttps://jazzint
 oronto.ca/events/borkosky-rivers-with-heavenly-devin-staple/
URL:https://jazzintoronto.ca/events/borkosky-rivers-with-heavenly-devin-staple/
END:VEVENT
END:VCALENDAR