BEGIN:VCALENDAR
VERSION:2.0
PRODID:-//eventon.com NONSGML v1.0//EN
CALSCALE:GREGORIAN
METHOD:PUBLISH
BEGIN:VEVENT
UID:69e5046f9d185
DTSTAMP:20260419T163559Z
DTSTART:20260408T010000Z
DTEND:20260408T035900Z
LOCATION:The Local 396 Roncesvalles Ave\,  Toronto\,  ON M6R 2M9
SUMMARY:Sam Clark Trio
DESCRIPTION:Sam Clark Trio\nhttps://jazzintoronto.ca/events/sam-clark-trio/
URL:https://jazzintoronto.ca/events/sam-clark-trio/
END:VEVENT
END:VCALENDAR