BEGIN:VCALENDAR
VERSION:2.0
PRODID:-//eventon.com NONSGML v1.0//EN
CALSCALE:GREGORIAN
METHOD:PUBLISH
BEGIN:VEVENT
UID:69e4ec2181917
DTSTAMP:20260419T145217Z
DTSTART:20260405T180000Z
DTEND:20260406T035900Z
LOCATION:The Local 396 Roncesvalles Ave\,  Toronto\,  ON M6R 2M9
SUMMARY:Sax\,  Babes\,  & Vice
DESCRIPTION:Sax\,  Babes\,  & Vice\nhttps://jazzintoronto.ca/events/sax-bab
 es-vice/
URL:https://jazzintoronto.ca/events/sax-babes-vice/
END:VEVENT
END:VCALENDAR