BEGIN:VCALENDAR
VERSION:2.0
PRODID:-//eventon.com NONSGML v1.0//EN
CALSCALE:GREGORIAN
METHOD:PUBLISH
BEGIN:VEVENT
UID:69e5033dd084f
DTSTAMP:20260419T163053Z
DTSTART:20260404T180000Z
DTEND:20260405T035900Z
LOCATION:The Local 396 Roncesvalles Ave\,  Toronto\,  ON M6R 2M9
SUMMARY:Michelle Rumball & Gram Whitty
DESCRIPTION:Michelle Rumball & Gram Whitty\nhttps://jazzintoronto.ca/events
 /michelle-rumball-gram-whitty/
URL:https://jazzintoronto.ca/events/michelle-rumball-gram-whitty/
END:VEVENT
END:VCALENDAR