BEGIN:VCALENDAR
VERSION:2.0
PRODID:-//eventon.com NONSGML v1.0//EN
CALSCALE:GREGORIAN
METHOD:PUBLISH
BEGIN:VEVENT
UID:69e51ac7cc796
DTSTAMP:20260419T181119Z
DTSTART:20260402T010000Z
DTEND:20260402T035900Z
LOCATION:The Local 396 Roncesvalles Ave\,  Toronto\,  ON M6R 2M9
SUMMARY:Vienna Johnson & Friends
DESCRIPTION:Vienna Johnson & Friends\nhttps://jazzintoronto.ca/events/vienn
 a-johnson-friends/
URL:https://jazzintoronto.ca/events/vienna-johnson-friends/
END:VEVENT
END:VCALENDAR