BEGIN:VCALENDAR
VERSION:2.0
PRODID:-//eventon.com NONSGML v1.0//EN
CALSCALE:GREGORIAN
METHOD:PUBLISH
BEGIN:VEVENT
UID:69e4cb9ed8a23
DTSTAMP:20260419T123334Z
DTSTART:20260406T013000Z
DTEND:20260406T033000Z
LOCATION:Black Swan Tavern 154 Danforth Ave\,  Toronto\,  ON M4K 1N1
SUMMARY:The Jay Blues Trio
DESCRIPTION:“Psychedelic Sundays” The Jay Blues Trio’s Pysch\,  Funk\
 ,  Jazz\,  Blues Jam! Open to all jammers! PWYC\nhttps://jazzintoronto.ca/e
 vents/the-jay-blues-trio-2/
URL:https://jazzintoronto.ca/events/the-jay-blues-trio-2/
END:VEVENT
END:VCALENDAR