BEGIN:VCALENDAR
VERSION:2.0
PRODID:-//eventon.com NONSGML v1.0//EN
CALSCALE:GREGORIAN
METHOD:PUBLISH
BEGIN:VEVENT
UID:69e4cc0096940
DTSTAMP:20260419T123512Z
DTSTART:20260404T013000Z
DTEND:20260404T033000Z
LOCATION:Black Swan Tavern 154 Danforth Ave\,  Toronto\,  ON M4K 1N1
SUMMARY:Mike Sedgewick’s Friday Night Blues Jam
DESCRIPTION:Mike Sedgewick’s Friday Night Blues Jam\nhttps://jazzintoront
 o.ca/events/mike-sedgewicks-friday-night-blues-jam/
URL:https://jazzintoronto.ca/events/mike-sedgewicks-friday-night-blues-jam/
END:VEVENT
END:VCALENDAR